BEGIN:VCALENDAR
VERSION:2.0
PRODID:-//Zaans Natuur &amp; Milieu Centrum - ECPv6.15.14//NONSGML v1.0//EN
CALSCALE:GREGORIAN
METHOD:PUBLISH
X-ORIGINAL-URL:https://znmc.nl
X-WR-CALDESC:Evenementen voor Zaans Natuur &amp; Milieu Centrum
REFRESH-INTERVAL;VALUE=DURATION:PT1H
X-Robots-Tag:noindex
X-PUBLISHED-TTL:PT1H
BEGIN:VTIMEZONE
TZID:Europe/Paris
BEGIN:DAYLIGHT
TZOFFSETFROM:+0100
TZOFFSETTO:+0200
TZNAME:CEST
DTSTART:20250330T010000
END:DAYLIGHT
BEGIN:STANDARD
TZOFFSETFROM:+0200
TZOFFSETTO:+0100
TZNAME:CET
DTSTART:20251026T010000
END:STANDARD
BEGIN:DAYLIGHT
TZOFFSETFROM:+0100
TZOFFSETTO:+0200
TZNAME:CEST
DTSTART:20260329T010000
END:DAYLIGHT
BEGIN:STANDARD
TZOFFSETFROM:+0200
TZOFFSETTO:+0100
TZNAME:CET
DTSTART:20261025T010000
END:STANDARD
BEGIN:DAYLIGHT
TZOFFSETFROM:+0100
TZOFFSETTO:+0200
TZNAME:CEST
DTSTART:20270328T010000
END:DAYLIGHT
BEGIN:STANDARD
TZOFFSETFROM:+0200
TZOFFSETTO:+0100
TZNAME:CET
DTSTART:20271031T010000
END:STANDARD
END:VTIMEZONE
BEGIN:VEVENT
DTSTART;TZID=Europe/Paris:20260503T130000
DTEND;TZID=Europe/Paris:20260503T170000
DTSTAMP:20260420T035426
CREATED:20260416T114903Z
LAST-MODIFIED:20260416T115122Z
UID:7584-1777813200-1777827600@znmc.nl
SUMMARY:Uilenballen pluizen
DESCRIPTION:We gaan uilenballen uitpluizen! Per uilenbal 1 euro. Verder de normale toegangsprijs
URL:https://znmc.nl/agenda/uilenballen-pluizen/
END:VEVENT
BEGIN:VEVENT
DTSTART;TZID=Europe/Paris:20260510T130000
DTEND;TZID=Europe/Paris:20260510T170000
DTSTAMP:20260420T035426
CREATED:20251218T091425Z
LAST-MODIFIED:20251218T091426Z
UID:7274-1778418000-1778432400@znmc.nl
SUMMARY:Schapenscheerfeest
DESCRIPTION:Het is jaarlijks een van onze grootste activiteiten! Onze kleine kudde schapen wordt geschoren en daaromheen zijn allerlei leuke activiteiten te doen. Houd onze website en de lokale media in de gaten voor meer gedetailleerde informatie
URL:https://znmc.nl/agenda/schapenscheerfeest/
CATEGORIES:Stadsboerderij
END:VEVENT
BEGIN:VEVENT
DTSTART;TZID=Europe/Paris:20260510T130000
DTEND;TZID=Europe/Paris:20260510T170000
DTSTAMP:20260420T035426
CREATED:20251218T091604Z
LAST-MODIFIED:20251218T091605Z
UID:7276-1778418000-1778432400@znmc.nl
SUMMARY:Alle moeders verzamelen!
DESCRIPTION:Het is Moederdag vandaag en dan mogen moeders gratis naar het Natuurmuseum! Misschien krijgen ze daar ook nog wel een leuke verrassing? Kom met het hele gezin én geef moeder de dag van haar leven.
URL:https://znmc.nl/agenda/alle-moeders-verzamelen/
CATEGORIES:Natuurmuseum
END:VEVENT
BEGIN:VEVENT
DTSTART;TZID=Europe/Paris:20260517T110000
DTEND;TZID=Europe/Paris:20260517T160000
DTSTAMP:20260420T035426
CREATED:20251218T091748Z
LAST-MODIFIED:20251218T091749Z
UID:7278-1779015600-1779033600@znmc.nl
SUMMARY:Kikkerpad (Heemtuin)
DESCRIPTION:Er is weer een leuke speurtocht uitgezet door de tuin. Onderweg vind je allerlei leuke natuurdingen.
URL:https://znmc.nl/agenda/kikkerpad-heemtuin-2/
CATEGORIES:Heemtuin
END:VEVENT
BEGIN:VEVENT
DTSTART;TZID=Europe/Paris:20260531T130000
DTEND;TZID=Europe/Paris:20260531T170000
DTSTAMP:20260420T035426
CREATED:20251218T091939Z
LAST-MODIFIED:20251218T091940Z
UID:7280-1780232400-1780246800@znmc.nl
SUMMARY:Vlechten met wilgen
DESCRIPTION:Wilgentenen zijn fantastisch! De takjes zijn lekker elastisch en toch heel sterk. Je kunt er prachtige dingen van maken. “Onze” Annemieke is aanwezig om je te helpen.
URL:https://znmc.nl/agenda/vlechten-met-wilgen/
CATEGORIES:Natuurmuseum
END:VEVENT
END:VCALENDAR