BEGIN:VCALENDAR
VERSION:2.0
PRODID:-//Zaans Natuur &amp; Milieu Centrum - ECPv6.15.14//NONSGML v1.0//EN
CALSCALE:GREGORIAN
METHOD:PUBLISH
X-ORIGINAL-URL:https://znmc.nl
X-WR-CALDESC:Evenementen voor Zaans Natuur &amp; Milieu Centrum
REFRESH-INTERVAL;VALUE=DURATION:PT1H
X-Robots-Tag:noindex
X-PUBLISHED-TTL:PT1H
BEGIN:VTIMEZONE
TZID:Europe/Paris
BEGIN:DAYLIGHT
TZOFFSETFROM:+0100
TZOFFSETTO:+0200
TZNAME:CEST
DTSTART:20250330T010000
END:DAYLIGHT
BEGIN:STANDARD
TZOFFSETFROM:+0200
TZOFFSETTO:+0100
TZNAME:CET
DTSTART:20251026T010000
END:STANDARD
BEGIN:DAYLIGHT
TZOFFSETFROM:+0100
TZOFFSETTO:+0200
TZNAME:CEST
DTSTART:20260329T010000
END:DAYLIGHT
BEGIN:STANDARD
TZOFFSETFROM:+0200
TZOFFSETTO:+0100
TZNAME:CET
DTSTART:20261025T010000
END:STANDARD
BEGIN:DAYLIGHT
TZOFFSETFROM:+0100
TZOFFSETTO:+0200
TZNAME:CEST
DTSTART:20270328T010000
END:DAYLIGHT
BEGIN:STANDARD
TZOFFSETFROM:+0200
TZOFFSETTO:+0100
TZNAME:CET
DTSTART:20271031T010000
END:STANDARD
END:VTIMEZONE
BEGIN:VEVENT
DTSTART;TZID=Europe/Paris:20260104T130000
DTEND;TZID=Europe/Paris:20260104T170000
DTSTAMP:20260420T065429
CREATED:20251218T083721Z
LAST-MODIFIED:20251218T083722Z
UID:7246-1767531600-1767546000@znmc.nl
SUMMARY:Laatste dag Binnenbos
DESCRIPTION:Dit is de laatste kans om de wisselexpositie Bos vol geheimen te bezoeken. Vanaf volgende week staat de expositie Flierefluiters in de wisselruimte. Ook fantastisch leuk trouwens!
URL:https://znmc.nl/agenda/laatste-dag-binnenbos/
CATEGORIES:Stadsboerderij
END:VEVENT
BEGIN:VEVENT
DTSTART;TZID=Europe/Paris:20260111T110000
DTEND;TZID=Europe/Paris:20260111T160000
DTSTAMP:20260420T065429
CREATED:20251218T083113Z
LAST-MODIFIED:20251218T083114Z
UID:7242-1768129200-1768147200@znmc.nl
SUMMARY:Vogelvoer maken (heemtuin)
DESCRIPTION:Kom vogelvoer maken op de heemtuin. Ook als het niet vriest dat het kraakt\, kun je vogels blij maken met een vetbolletje of een andere lekkernij. Wij hebben deskundigen en materialen op de tuin
URL:https://znmc.nl/agenda/vogelvoer-maken-heemtuin/
CATEGORIES:Heemtuin
END:VEVENT
BEGIN:VEVENT
DTSTART;TZID=Europe/Paris:20260114T140000
DTEND;TZID=Europe/Paris:20260114T170000
DTSTAMP:20260420T065429
CREATED:20251218T083451Z
LAST-MODIFIED:20251218T083452Z
UID:7244-1768399200-1768410000@znmc.nl
SUMMARY:Buttons maken
DESCRIPTION:Kom een leuke button maken. Wij hebben de materialen en kunnen je helpen bij je ontwerp. Bezoek daarvoor of daarna ook ons nieuwe Natuurmuseum en de wisselexpositie Flierefluiters
URL:https://znmc.nl/agenda/buttons-maken/
CATEGORIES:Stadsboerderij
END:VEVENT
BEGIN:VEVENT
DTSTART;TZID=Europe/Paris:20260118T130000
DTEND;TZID=Europe/Paris:20260118T170000
DTSTAMP:20260420T065429
CREATED:20251218T083915Z
LAST-MODIFIED:20251218T083916Z
UID:7248-1768741200-1768755600@znmc.nl
SUMMARY:Vogelvoer (natuurmuseum)
DESCRIPTION:Kom vogelvoer maken bij Natuurmuseum Zirkel. Wij hebben de materialen en deskundigen die je kunnen helpen bij het maken van heerlijke hapjes voor jouw tuinvogels
URL:https://znmc.nl/agenda/vogelvoer-natuurmuseum/
CATEGORIES:Natuurmuseum
END:VEVENT
END:VCALENDAR