BEGIN:VCALENDAR
VERSION:2.0
PRODID:-//Zaans Natuur &amp; Milieu Centrum - ECPv6.15.14//NONSGML v1.0//EN
CALSCALE:GREGORIAN
METHOD:PUBLISH
X-WR-CALNAME:Zaans Natuur &amp; Milieu Centrum
X-ORIGINAL-URL:https://znmc.nl
X-WR-CALDESC:Evenementen voor Zaans Natuur &amp; Milieu Centrum
REFRESH-INTERVAL;VALUE=DURATION:PT1H
X-Robots-Tag:noindex
X-PUBLISHED-TTL:PT1H
BEGIN:VTIMEZONE
TZID:Europe/Paris
BEGIN:DAYLIGHT
TZOFFSETFROM:+0100
TZOFFSETTO:+0200
TZNAME:CEST
DTSTART:20240331T010000
END:DAYLIGHT
BEGIN:STANDARD
TZOFFSETFROM:+0200
TZOFFSETTO:+0100
TZNAME:CET
DTSTART:20241027T010000
END:STANDARD
BEGIN:DAYLIGHT
TZOFFSETFROM:+0100
TZOFFSETTO:+0200
TZNAME:CEST
DTSTART:20250330T010000
END:DAYLIGHT
BEGIN:STANDARD
TZOFFSETFROM:+0200
TZOFFSETTO:+0100
TZNAME:CET
DTSTART:20251026T010000
END:STANDARD
BEGIN:DAYLIGHT
TZOFFSETFROM:+0100
TZOFFSETTO:+0200
TZNAME:CEST
DTSTART:20260329T010000
END:DAYLIGHT
BEGIN:STANDARD
TZOFFSETFROM:+0200
TZOFFSETTO:+0100
TZNAME:CET
DTSTART:20261025T010000
END:STANDARD
END:VTIMEZONE
BEGIN:VEVENT
DTSTART;TZID=Europe/Paris:20251221T130000
DTEND;TZID=Europe/Paris:20251221T143000
DTSTAMP:20260420T092648
CREATED:20251218T082648Z
LAST-MODIFIED:20251218T082649Z
UID:7240-1766322000-1766327400@znmc.nl
SUMMARY:Kerstbingooooo!
DESCRIPTION:Geweldig leuke prijzen! Luister goed naar de nummertjes\, anders gaat iemand anders met jouw prijs ervandoor…
URL:https://znmc.nl/agenda/kerstbingooooo-2/
CATEGORIES:Stadsboerderij
END:VEVENT
BEGIN:VEVENT
DTSTART;TZID=Europe/Paris:20251228T130000
DTEND;TZID=Europe/Paris:20251228T170000
DTSTAMP:20260420T092648
CREATED:20251218T110922Z
LAST-MODIFIED:20251218T110923Z
UID:7294-1766926800-1766941200@znmc.nl
SUMMARY:Blaas vuurwerk!
DESCRIPTION:Wij gaan met een “knal” het oudejaar uit. Onder begeleiding van “onze” Carla kun je heel erg leuk blaasvuurwerk maken. Daar heeft niemand last van\, en iedereen wel heel veel plezier! Bezoek daarvoor of daarna ook ons natuurmuseum (inclusief wisselexpositie Bos vol geheimen)
URL:https://znmc.nl/agenda/blaas-vuurwerk/
CATEGORIES:Natuurmuseum
END:VEVENT
END:VCALENDAR