BEGIN:VCALENDAR
VERSION:2.0
PRODID:-//Zaans Natuur &amp; Milieu Centrum - ECPv6.15.14//NONSGML v1.0//EN
CALSCALE:GREGORIAN
METHOD:PUBLISH
X-WR-CALNAME:Zaans Natuur &amp; Milieu Centrum
X-ORIGINAL-URL:https://znmc.nl
X-WR-CALDESC:Evenementen voor Zaans Natuur &amp; Milieu Centrum
REFRESH-INTERVAL;VALUE=DURATION:PT1H
X-Robots-Tag:noindex
X-PUBLISHED-TTL:PT1H
BEGIN:VTIMEZONE
TZID:Europe/Paris
BEGIN:DAYLIGHT
TZOFFSETFROM:+0100
TZOFFSETTO:+0200
TZNAME:CEST
DTSTART:20230326T010000
END:DAYLIGHT
BEGIN:STANDARD
TZOFFSETFROM:+0200
TZOFFSETTO:+0100
TZNAME:CET
DTSTART:20231029T010000
END:STANDARD
BEGIN:DAYLIGHT
TZOFFSETFROM:+0100
TZOFFSETTO:+0200
TZNAME:CEST
DTSTART:20240331T010000
END:DAYLIGHT
BEGIN:STANDARD
TZOFFSETFROM:+0200
TZOFFSETTO:+0100
TZNAME:CET
DTSTART:20241027T010000
END:STANDARD
BEGIN:DAYLIGHT
TZOFFSETFROM:+0100
TZOFFSETTO:+0200
TZNAME:CEST
DTSTART:20250330T010000
END:DAYLIGHT
BEGIN:STANDARD
TZOFFSETFROM:+0200
TZOFFSETTO:+0100
TZNAME:CET
DTSTART:20251026T010000
END:STANDARD
BEGIN:DAYLIGHT
TZOFFSETFROM:+0100
TZOFFSETTO:+0200
TZNAME:CEST
DTSTART:20260329T010000
END:DAYLIGHT
BEGIN:STANDARD
TZOFFSETFROM:+0200
TZOFFSETTO:+0100
TZNAME:CET
DTSTART:20261025T010000
END:STANDARD
END:VTIMEZONE
BEGIN:VEVENT
DTSTART;TZID=Europe/Paris:20250112T130000
DTEND;TZID=Europe/Paris:20250112T170000
DTSTAMP:20260420T150119
CREATED:20250108T152145Z
LAST-MODIFIED:20250108T152145Z
UID:6518-1736686800-1736701200@znmc.nl
SUMMARY:Winter Knutselen
DESCRIPTION:De kachel brandt. Monique (onze knutsel-expert) is aanwezig. Kom dus ook een mooie Winterknutsel maken én bezoek daarvoor of daarna onze nieuwe wisselexpositie Waterwerkers
URL:https://znmc.nl/agenda/winter-knutselen/
END:VEVENT
BEGIN:VEVENT
DTSTART;TZID=Europe/Paris:20250105T110000
DTEND;TZID=Europe/Paris:20250105T160000
DTSTAMP:20260420T150119
CREATED:20250106T124816Z
LAST-MODIFIED:20250106T124816Z
UID:6508-1736074800-1736092800@znmc.nl
SUMMARY:Dino Dag
DESCRIPTION:Reis mee terug in de tijd en ontdek van alles over Dino’s
URL:https://znmc.nl/agenda/dino-dag/
END:VEVENT
BEGIN:VEVENT
DTSTART;TZID=Europe/Paris:20241229T080000
DTEND;TZID=Europe/Paris:20241229T170000
DTSTAMP:20260420T150119
CREATED:20241227T144401Z
LAST-MODIFIED:20241227T144703Z
UID:6463-1735459200-1735491600@znmc.nl
SUMMARY:Kerstmarkt
DESCRIPTION:Dit is een test event.
URL:https://znmc.nl/agenda/kerstmarkt/
CATEGORIES:Heemtuin
END:VEVENT
END:VCALENDAR