BEGIN:VCALENDAR
VERSION:2.0
PRODID:-//Zaans Natuur &amp; Milieu Centrum - ECPv6.15.14//NONSGML v1.0//EN
CALSCALE:GREGORIAN
METHOD:PUBLISH
X-WR-CALNAME:Zaans Natuur &amp; Milieu Centrum
X-ORIGINAL-URL:https://znmc.nl
X-WR-CALDESC:Evenementen voor Zaans Natuur &amp; Milieu Centrum
REFRESH-INTERVAL;VALUE=DURATION:PT1H
X-Robots-Tag:noindex
X-PUBLISHED-TTL:PT1H
BEGIN:VTIMEZONE
TZID:Europe/Paris
BEGIN:DAYLIGHT
TZOFFSETFROM:+0100
TZOFFSETTO:+0200
TZNAME:CEST
DTSTART:20250330T010000
END:DAYLIGHT
BEGIN:STANDARD
TZOFFSETFROM:+0200
TZOFFSETTO:+0100
TZNAME:CET
DTSTART:20251026T010000
END:STANDARD
BEGIN:DAYLIGHT
TZOFFSETFROM:+0100
TZOFFSETTO:+0200
TZNAME:CEST
DTSTART:20260329T010000
END:DAYLIGHT
BEGIN:STANDARD
TZOFFSETFROM:+0200
TZOFFSETTO:+0100
TZNAME:CET
DTSTART:20261025T010000
END:STANDARD
BEGIN:DAYLIGHT
TZOFFSETFROM:+0100
TZOFFSETTO:+0200
TZNAME:CEST
DTSTART:20270328T010000
END:DAYLIGHT
BEGIN:STANDARD
TZOFFSETFROM:+0200
TZOFFSETTO:+0100
TZNAME:CET
DTSTART:20271031T010000
END:STANDARD
END:VTIMEZONE
BEGIN:VEVENT
DTSTART;TZID=Europe/Paris:20260802T130000
DTEND;TZID=Europe/Paris:20260802T160000
DTSTAMP:20260420T081242
CREATED:20260410T144258Z
LAST-MODIFIED:20260410T144259Z
UID:7553-1785675600-1785686400@znmc.nl
SUMMARY:Speksteen
DESCRIPTION:Van speksteen kun je prachtige dingen maken. Onder inspirerende begeleiding lukt jou dat ook vast! Je betaalt museumentree\, maar verder niets voor deze activiteit.
URL:https://znmc.nl/agenda/speksteen/
END:VEVENT
BEGIN:VEVENT
DTSTART;TZID=Europe/Paris:20260816T140000
DTEND;TZID=Europe/Paris:20260816T150000
DTSTAMP:20260420T081242
CREATED:20260410T144425Z
LAST-MODIFIED:20260410T144425Z
UID:7555-1786888800-1786892400@znmc.nl
SUMMARY:Yoga (ouder/kind)
DESCRIPTION:Wegens groot succes doen we dit nog een keer! Neem je matje mee en yoga lekker met ons mee.
URL:https://znmc.nl/agenda/yoga-ouder-kind/
END:VEVENT
BEGIN:VEVENT
DTSTART;TZID=Europe/Paris:20260920T130000
DTEND;TZID=Europe/Paris:20260920T170000
DTSTAMP:20260420T081242
CREATED:20260410T144523Z
LAST-MODIFIED:20260410T144524Z
UID:7557-1789909200-1789923600@znmc.nl
SUMMARY:Mierendokter
DESCRIPTION:Een paar keer per jaar komt hij: mierendokter Mitchell! Hij weet (bijna) alles van deze kleine werkdiertjes
URL:https://znmc.nl/agenda/mierendokter-2/
END:VEVENT
BEGIN:VEVENT
DTSTART;TZID=Europe/Paris:20261004T130000
DTEND;TZID=Europe/Paris:20261004T170000
DTSTAMP:20260420T081242
CREATED:20260410T144617Z
LAST-MODIFIED:20260410T144618Z
UID:7559-1791118800-1791133200@znmc.nl
SUMMARY:Dierenbingo
DESCRIPTION:Het is dierendag! Leuk om dan dierenbingo te spelen. Kom jij ook?
URL:https://znmc.nl/agenda/dierenbingo/
END:VEVENT
BEGIN:VEVENT
DTSTART;TZID=Europe/Paris:20261101T130000
DTEND;TZID=Europe/Paris:20261101T170000
DTSTAMP:20260420T081242
CREATED:20260410T144705Z
LAST-MODIFIED:20260410T144707Z
UID:7561-1793538000-1793552400@znmc.nl
SUMMARY:Halloween
DESCRIPTION:Tijd voor halloween! Houd onze site in de gaten om te lezen wat we precies gaan doen.
URL:https://znmc.nl/agenda/halloween/
END:VEVENT
BEGIN:VEVENT
DTSTART;TZID=Europe/Paris:20261115T130000
DTEND;TZID=Europe/Paris:20261115T170000
DTSTAMP:20260420T081242
CREATED:20260410T144850Z
LAST-MODIFIED:20260410T144851Z
UID:7563-1794747600-1794762000@znmc.nl
SUMMARY:Uilenballen
DESCRIPTION:Door uilenballen uit te pluizen\, weet je precies wat ze gegeten hebben. Kom jij mee pluizen?!
URL:https://znmc.nl/agenda/uilenballen/
END:VEVENT
BEGIN:VEVENT
DTSTART;TZID=Europe/Paris:20261213T130000
DTEND;TZID=Europe/Paris:20261213T170000
DTSTAMP:20260420T081242
CREATED:20260410T145026Z
LAST-MODIFIED:20260410T145027Z
UID:7565-1797166800-1797181200@znmc.nl
SUMMARY:Reptielen
DESCRIPTION:“Onze” Annemieke weet (bijna) alles over reptielen. Ze neemt wat van haar eigen dieren mee. Durf jij dicht bij de slang te komen?
URL:https://znmc.nl/agenda/reptielen/
END:VEVENT
END:VCALENDAR