BEGIN:VCALENDAR
VERSION:2.0
PRODID:-//Zaans Natuur &amp; Milieu Centrum - ECPv6.15.14//NONSGML v1.0//EN
CALSCALE:GREGORIAN
METHOD:PUBLISH
X-WR-CALNAME:Zaans Natuur &amp; Milieu Centrum
X-ORIGINAL-URL:https://znmc.nl
X-WR-CALDESC:Evenementen voor Zaans Natuur &amp; Milieu Centrum
REFRESH-INTERVAL;VALUE=DURATION:PT1H
X-Robots-Tag:noindex
X-PUBLISHED-TTL:PT1H
BEGIN:VTIMEZONE
TZID:Europe/Paris
BEGIN:DAYLIGHT
TZOFFSETFROM:+0100
TZOFFSETTO:+0200
TZNAME:CEST
DTSTART:20230326T010000
END:DAYLIGHT
BEGIN:STANDARD
TZOFFSETFROM:+0200
TZOFFSETTO:+0100
TZNAME:CET
DTSTART:20231029T010000
END:STANDARD
BEGIN:DAYLIGHT
TZOFFSETFROM:+0100
TZOFFSETTO:+0200
TZNAME:CEST
DTSTART:20240331T010000
END:DAYLIGHT
BEGIN:STANDARD
TZOFFSETFROM:+0200
TZOFFSETTO:+0100
TZNAME:CET
DTSTART:20241027T010000
END:STANDARD
BEGIN:DAYLIGHT
TZOFFSETFROM:+0100
TZOFFSETTO:+0200
TZNAME:CEST
DTSTART:20250330T010000
END:DAYLIGHT
BEGIN:STANDARD
TZOFFSETFROM:+0200
TZOFFSETTO:+0100
TZNAME:CET
DTSTART:20251026T010000
END:STANDARD
BEGIN:DAYLIGHT
TZOFFSETFROM:+0100
TZOFFSETTO:+0200
TZNAME:CEST
DTSTART:20260329T010000
END:DAYLIGHT
BEGIN:STANDARD
TZOFFSETFROM:+0200
TZOFFSETTO:+0100
TZNAME:CET
DTSTART:20261025T010000
END:STANDARD
END:VTIMEZONE
BEGIN:VEVENT
DTSTART;TZID=Europe/Paris:20251102T110000
DTEND;TZID=Europe/Paris:20251102T160000
DTSTAMP:20260420T093526
CREATED:20251028T144027Z
LAST-MODIFIED:20251028T144027Z
UID:7123-1762081200-1762099200@znmc.nl
SUMMARY:Paddenstoelen-rondleiding
DESCRIPTION:Ga mee op een rondleiding door de heemtuin. Misschien vind je wel een reuzenzwam! Leuk voor jong en oud.
URL:https://znmc.nl/agenda/paddenstoelen-rondleiding/
CATEGORIES:Heemtuin
END:VEVENT
BEGIN:VEVENT
DTSTART;TZID=Europe/Paris:20251030T153000
DTEND;TZID=Europe/Paris:20251030T163000
DTSTAMP:20260420T093526
CREATED:20251008T174500Z
LAST-MODIFIED:20251008T175015Z
UID:7058-1761838200-1761841800@znmc.nl
SUMMARY:Boerderijclub
DESCRIPTION:Doe 6x mee met onze boerderijclub (30 euro p.p). Voor kinderen van 7-10 jaar. Maximum is 7 kinderen
URL:https://znmc.nl/agenda/boerderijclub/
CATEGORIES:Stadsboerderij
ATTACH;FMTTYPE=image/jpeg:https://znmc.nl/wp-content/uploads/2024/10/Koeien.jpg
END:VEVENT
BEGIN:VEVENT
DTSTART;TZID=Europe/Paris:20251026T143000
DTEND;TZID=Europe/Paris:20251026T153000
DTSTAMP:20260420T093526
CREATED:20251008T142139Z
LAST-MODIFIED:20251008T142139Z
UID:7052-1761489000-1761492600@znmc.nl
SUMMARY:Zaanstad Wandelstad
DESCRIPTION:Er zijn verschillende startpunten van de wandeling. Het eindpunt is op de Stadsboerderij
URL:https://znmc.nl/agenda/zaanstad-wandelstad/
END:VEVENT
BEGIN:VEVENT
DTSTART;TZID=Europe/Paris:20251018T093000
DTEND;TZID=Europe/Paris:20251018T123000
DTSTAMP:20260420T093526
CREATED:20251008T140944Z
LAST-MODIFIED:20251008T140945Z
UID:7050-1760779800-1760790600@znmc.nl
SUMMARY:Zwerfafvalbrigade
DESCRIPTION:Zwerfafvalbrigade
URL:https://znmc.nl/agenda/zwerfafvalbrigade/
END:VEVENT
BEGIN:VEVENT
DTSTART;TZID=Europe/Paris:20251012T130000
DTEND;TZID=Europe/Paris:20251012T170000
DTSTAMP:20260420T093526
CREATED:20251007T125709Z
LAST-MODIFIED:20251007T125710Z
UID:7042-1760274000-1760288400@znmc.nl
SUMMARY:Herfst knutselen in het Natuurmuseum
DESCRIPTION:Kom knutselen met herfstmaterialen en bezoek gelijk onze vaste en wisselexpositie Bos vol geheimen
URL:https://znmc.nl/agenda/herfst-knutselen-in-het-natuurmuseum/
ATTACH;FMTTYPE=image/jpeg:https://znmc.nl/wp-content/uploads/2025/10/Herfstknutselen.jpg
END:VEVENT
BEGIN:VEVENT
DTSTART;TZID=Europe/Paris:20251011T130000
DTEND;TZID=Europe/Paris:20251011T170000
DTSTAMP:20260420T093526
CREATED:20251008T175251Z
LAST-MODIFIED:20251008T175251Z
UID:7067-1760187600-1760202000@znmc.nl
SUMMARY:Kom naar ons binnenbos (vol geheimen)
DESCRIPTION:In ons nieuwe museum is van alles te zien\, te doen en te beleven! Entree: € 7\,50.
URL:https://znmc.nl/agenda/kom-naar-ons-binnenbos-vol-geheimen/
ATTACH;FMTTYPE=image/jpeg:https://znmc.nl/wp-content/uploads/2025/10/Bos-vol-geheimen-vosje-scaled.jpeg
END:VEVENT
BEGIN:VEVENT
DTSTART;TZID=Europe/Paris:20250216T110000
DTEND;TZID=Europe/Paris:20250216T170000
DTSTAMP:20260420T093526
CREATED:20250114T093825Z
LAST-MODIFIED:20250114T094215Z
UID:6530-1739703600-1739725200@znmc.nl
SUMMARY:Graven naar edelstenen
DESCRIPTION:Met vrijwilligers van geologievereniging Amathysta gaan we op zoek naar mooie edelstenen. Help jij mee? Je vindt vast ook wel mooie stenen voor jouw eigen “thuis-museum”
URL:https://znmc.nl/agenda/graven-naar-edelstenen/
END:VEVENT
BEGIN:VEVENT
DTSTART;TZID=Europe/Paris:20250202T130000
DTEND;TZID=Europe/Paris:20250202T170000
DTSTAMP:20260420T093526
CREATED:20250114T093620Z
LAST-MODIFIED:20250114T094101Z
UID:6528-1738501200-1738515600@znmc.nl
SUMMARY:Reptielendag!
DESCRIPTION:“Onze” Annemieke is aanwezig met haar schildpadden en slang. Verder hebben we boeiende dieren\, zoals wandelende takken\, onze vogelspin én wandelende bladeren
URL:https://znmc.nl/agenda/reptielendag/
END:VEVENT
BEGIN:VEVENT
DTSTART;TZID=Europe/Paris:20250119T130000
DTEND;TZID=Europe/Paris:20250119T170000
DTSTAMP:20260420T093526
CREATED:20250106T125138Z
LAST-MODIFIED:20250114T094139Z
UID:6510-1737291600-1737306000@znmc.nl
SUMMARY:Reis mee naar Mars!
DESCRIPTION:Erwin Kaspers neemt je mee op reis naar Mars. Hij weet er (bijna) alles over te vertellen! Bezoek daarvoor of daarna de expositie Waterwerkers
URL:https://znmc.nl/agenda/reis-mee-naar-mars/
END:VEVENT
BEGIN:VEVENT
DTSTART;TZID=Europe/Paris:20250112T130000
DTEND;TZID=Europe/Paris:20250112T170000
DTSTAMP:20260420T093526
CREATED:20250108T152145Z
LAST-MODIFIED:20250108T152145Z
UID:6518-1736686800-1736701200@znmc.nl
SUMMARY:Winter Knutselen
DESCRIPTION:De kachel brandt. Monique (onze knutsel-expert) is aanwezig. Kom dus ook een mooie Winterknutsel maken én bezoek daarvoor of daarna onze nieuwe wisselexpositie Waterwerkers
URL:https://znmc.nl/agenda/winter-knutselen/
END:VEVENT
BEGIN:VEVENT
DTSTART;TZID=Europe/Paris:20250105T110000
DTEND;TZID=Europe/Paris:20250105T160000
DTSTAMP:20260420T093526
CREATED:20250106T124816Z
LAST-MODIFIED:20250106T124816Z
UID:6508-1736074800-1736092800@znmc.nl
SUMMARY:Dino Dag
DESCRIPTION:Reis mee terug in de tijd en ontdek van alles over Dino’s
URL:https://znmc.nl/agenda/dino-dag/
END:VEVENT
BEGIN:VEVENT
DTSTART;TZID=Europe/Paris:20241229T080000
DTEND;TZID=Europe/Paris:20241229T170000
DTSTAMP:20260420T093526
CREATED:20241227T144401Z
LAST-MODIFIED:20241227T144703Z
UID:6463-1735459200-1735491600@znmc.nl
SUMMARY:Kerstmarkt
DESCRIPTION:Dit is een test event.
URL:https://znmc.nl/agenda/kerstmarkt/
CATEGORIES:Heemtuin
END:VEVENT
END:VCALENDAR