BEGIN:VCALENDAR
VERSION:2.0
PRODID:-//Zaans Natuur &amp; Milieu Centrum - ECPv6.15.14//NONSGML v1.0//EN
CALSCALE:GREGORIAN
METHOD:PUBLISH
X-WR-CALNAME:Zaans Natuur &amp; Milieu Centrum
X-ORIGINAL-URL:https://znmc.nl
X-WR-CALDESC:Evenementen voor Zaans Natuur &amp; Milieu Centrum
REFRESH-INTERVAL;VALUE=DURATION:PT1H
X-Robots-Tag:noindex
X-PUBLISHED-TTL:PT1H
BEGIN:VTIMEZONE
TZID:Europe/Paris
BEGIN:DAYLIGHT
TZOFFSETFROM:+0100
TZOFFSETTO:+0200
TZNAME:CEST
DTSTART:20250330T010000
END:DAYLIGHT
BEGIN:STANDARD
TZOFFSETFROM:+0200
TZOFFSETTO:+0100
TZNAME:CET
DTSTART:20251026T010000
END:STANDARD
BEGIN:DAYLIGHT
TZOFFSETFROM:+0100
TZOFFSETTO:+0200
TZNAME:CEST
DTSTART:20260329T010000
END:DAYLIGHT
BEGIN:STANDARD
TZOFFSETFROM:+0200
TZOFFSETTO:+0100
TZNAME:CET
DTSTART:20261025T010000
END:STANDARD
BEGIN:DAYLIGHT
TZOFFSETFROM:+0100
TZOFFSETTO:+0200
TZNAME:CEST
DTSTART:20270328T010000
END:DAYLIGHT
BEGIN:STANDARD
TZOFFSETFROM:+0200
TZOFFSETTO:+0100
TZNAME:CET
DTSTART:20271031T010000
END:STANDARD
END:VTIMEZONE
BEGIN:VEVENT
DTSTART;TZID=Europe/Paris:20260321T190000
DTEND;TZID=Europe/Paris:20260321T210000
DTSTAMP:20260420T053019
CREATED:20251218T085230Z
LAST-MODIFIED:20251218T085230Z
UID:7260-1774119600-1774126800@znmc.nl
SUMMARY:Museumnacht
DESCRIPTION:Altijd al eens in het donker naar een (natuur)museum willen gaan? Dat kan vandaag\, vanaf 19.00 uur ben je welkom. Bij goed weer gaan we buiten ook nog vleermuizen ‘zoeken’.
URL:https://znmc.nl/agenda/museumnacht/
CATEGORIES:Natuurmuseum
END:VEVENT
END:VCALENDAR