BEGIN:VCALENDAR
VERSION:2.0
PRODID:-//Zaans Natuur &amp; Milieu Centrum - ECPv6.15.14//NONSGML v1.0//EN
CALSCALE:GREGORIAN
METHOD:PUBLISH
X-WR-CALNAME:Zaans Natuur &amp; Milieu Centrum
X-ORIGINAL-URL:https://znmc.nl
X-WR-CALDESC:Evenementen voor Zaans Natuur &amp; Milieu Centrum
REFRESH-INTERVAL;VALUE=DURATION:PT1H
X-Robots-Tag:noindex
X-PUBLISHED-TTL:PT1H
BEGIN:VTIMEZONE
TZID:Europe/Paris
BEGIN:DAYLIGHT
TZOFFSETFROM:+0100
TZOFFSETTO:+0200
TZNAME:CEST
DTSTART:20250330T010000
END:DAYLIGHT
BEGIN:STANDARD
TZOFFSETFROM:+0200
TZOFFSETTO:+0100
TZNAME:CET
DTSTART:20251026T010000
END:STANDARD
BEGIN:DAYLIGHT
TZOFFSETFROM:+0100
TZOFFSETTO:+0200
TZNAME:CEST
DTSTART:20260329T010000
END:DAYLIGHT
BEGIN:STANDARD
TZOFFSETFROM:+0200
TZOFFSETTO:+0100
TZNAME:CET
DTSTART:20261025T010000
END:STANDARD
BEGIN:DAYLIGHT
TZOFFSETFROM:+0100
TZOFFSETTO:+0200
TZNAME:CEST
DTSTART:20270328T010000
END:DAYLIGHT
BEGIN:STANDARD
TZOFFSETFROM:+0200
TZOFFSETTO:+0100
TZNAME:CET
DTSTART:20271031T010000
END:STANDARD
END:VTIMEZONE
BEGIN:VEVENT
DTSTART;TZID=Europe/Paris:20260315T130000
DTEND;TZID=Europe/Paris:20260315T170000
DTSTAMP:20260420T053013
CREATED:20251218T084728Z
LAST-MODIFIED:20251218T084729Z
UID:7256-1773579600-1773594000@znmc.nl
SUMMARY:Pennenveer maken
DESCRIPTION:Maak je eigen unieke pen van een vogelveer! Onze eigen “Carina” helpt je daarbij. Bezoek daarvoor of daarna ook ons Natuurmuseum (inclusief de wisselexpositie Flierefluiters)
URL:https://znmc.nl/agenda/pennenveer-maken/
CATEGORIES:Natuurmuseum
END:VEVENT
END:VCALENDAR