BEGIN:VCALENDAR
VERSION:2.0
PRODID:-//Zaans Natuur &amp; Milieu Centrum - ECPv6.15.14//NONSGML v1.0//EN
CALSCALE:GREGORIAN
METHOD:PUBLISH
X-ORIGINAL-URL:https://znmc.nl
X-WR-CALDESC:Evenementen voor Zaans Natuur &amp; Milieu Centrum
REFRESH-INTERVAL;VALUE=DURATION:PT1H
X-Robots-Tag:noindex
X-PUBLISHED-TTL:PT1H
BEGIN:VTIMEZONE
TZID:Europe/Paris
BEGIN:DAYLIGHT
TZOFFSETFROM:+0100
TZOFFSETTO:+0200
TZNAME:CEST
DTSTART:20250330T010000
END:DAYLIGHT
BEGIN:STANDARD
TZOFFSETFROM:+0200
TZOFFSETTO:+0100
TZNAME:CET
DTSTART:20251026T010000
END:STANDARD
BEGIN:DAYLIGHT
TZOFFSETFROM:+0100
TZOFFSETTO:+0200
TZNAME:CEST
DTSTART:20260329T010000
END:DAYLIGHT
BEGIN:STANDARD
TZOFFSETFROM:+0200
TZOFFSETTO:+0100
TZNAME:CET
DTSTART:20261025T010000
END:STANDARD
BEGIN:DAYLIGHT
TZOFFSETFROM:+0100
TZOFFSETTO:+0200
TZNAME:CEST
DTSTART:20270328T010000
END:DAYLIGHT
BEGIN:STANDARD
TZOFFSETFROM:+0200
TZOFFSETTO:+0100
TZNAME:CET
DTSTART:20271031T010000
END:STANDARD
END:VTIMEZONE
BEGIN:VEVENT
DTSTART;TZID=Europe/Paris:20260208T130000
DTEND;TZID=Europe/Paris:20260208T170000
DTSTAMP:20260420T064949
CREATED:20251218T084403Z
LAST-MODIFIED:20251218T084404Z
UID:7252-1770555600-1770570000@znmc.nl
SUMMARY:Verras je Valentijn!
DESCRIPTION:Stiekem verliefd? Verras je Valentijn met een leuke Valentijnskaart. Bezoek daarvoor of daarna ook ons Natuurmuseum. De wisselexpositie Flierefluiters is nu ook te bezoeken
URL:https://znmc.nl/agenda/verras-je-valentijn/
CATEGORIES:Natuurmuseum
END:VEVENT
END:VCALENDAR